BEGIN:VCALENDAR
VERSION:2.0
PRODID:B.A.U.M.events
BEGIN:VTIMEZONE
TZID:Europe/Berlin
X-LIC-LOCATION:Europe/Berlin
BEGIN:DAYLIGHT
TZOFFSETFROM:+0100
TZOFFSETTO:+0200
TZNAME:CET
DTSTART:19700329T020000
RRULE:FREQ=YEARLY;BYDAY=-1SU;BYMONTH=3
END:DAYLIGHT
BEGIN:STANDARD
TZOFFSETFROM:+0200
TZOFFSETTO:+0100
TZNAME:CET
DTSTART:19701025T030000
RRULE:FREQ=YEARLY;BYDAY=-1SU;BYMONTH=10
END:STANDARD
END:VTIMEZONE
BEGIN:VEVENT
UID:000160@events.baumgroup.de
LOCATION:Online & Bari, Italy
SUMMARY:Digitalization of District Heating and Cooling – Data Access & Data Interoperability
DESCRIPTION:\n\nLink: https://community.intnet.eu/Events/60/Digitalization-of-District-Heating-and-Cooling-–-Data-Access--Data-Interoperability\n
DTSTART;TZID=Europe/Berlin:20250520T140000
DTEND;TZID=Europe/Berlin:20250520T153000
DTSTAMP:20210113T175739
END:VEVENT
END:VCALENDAR