BEGIN:VCALENDAR
VERSION:2.0
PRODID:B.A.U.M.events
BEGIN:VTIMEZONE
TZID:Europe/Berlin
X-LIC-LOCATION:Europe/Berlin
BEGIN:DAYLIGHT
TZOFFSETFROM:+0100
TZOFFSETTO:+0200
TZNAME:CET
DTSTART:19700329T020000
RRULE:FREQ=YEARLY;BYDAY=-1SU;BYMONTH=3
END:DAYLIGHT
BEGIN:STANDARD
TZOFFSETFROM:+0200
TZOFFSETTO:+0100
TZNAME:CET
DTSTART:19701025T030000
RRULE:FREQ=YEARLY;BYDAY=-1SU;BYMONTH=10
END:STANDARD
END:VTIMEZONE
BEGIN:VEVENT
UID:000138@events.baumgroup.de
LOCATION:Trieste, Italy
SUMMARY:SET-Plan Implementation Working Group 4 - 2nd Symposium on Interoperability + Data Spaces
DESCRIPTION:\n\nLink: https://community.intnet.eu/Events/38/SET-Plan-Implementation-Working-Group-4---2nd-Symposium-on-Interoperability--Data-Spaces\n
DTSTART;TZID=Europe/Berlin:20240606T090000
DTEND;TZID=Europe/Berlin:20240606T163000
DTSTAMP:20210113T175739
END:VEVENT
END:VCALENDAR