BEGIN:VCALENDAR
VERSION:2.0
PRODID:B.A.U.M.events
BEGIN:VTIMEZONE
TZID:Europe/Berlin
X-LIC-LOCATION:Europe/Berlin
BEGIN:DAYLIGHT
TZOFFSETFROM:+0100
TZOFFSETTO:+0200
TZNAME:CET
DTSTART:19700329T020000
RRULE:FREQ=YEARLY;BYDAY=-1SU;BYMONTH=3
END:DAYLIGHT
BEGIN:STANDARD
TZOFFSETFROM:+0200
TZOFFSETTO:+0100
TZNAME:CET
DTSTART:19701025T030000
RRULE:FREQ=YEARLY;BYDAY=-1SU;BYMONTH=10
END:STANDARD
END:VTIMEZONE
BEGIN:VEVENT
UID:000116@events.baumgroup.de
LOCATION:Hybrid, Vienna (Austria)
SUMMARY:ComForEn 2023
DESCRIPTION:int:net workshop at ComForEn about "What is interoperability? – Views and needs from a stakeholders’ perspective"\n\nLink: https://community.intnet.eu/Events/16/ComForEn-2023\n
DTSTART;TZID=Europe/Berlin:20230315T000000
DTEND;TZID=Europe/Berlin:20230317T000000
DTSTAMP:20210113T175739
END:VEVENT
END:VCALENDAR